BEGIN:VCALENDAR
VERSION:2.0
PRODID:-//F3 St. Louis - ECPv6.6.4.2//NONSGML v1.0//EN
CALSCALE:GREGORIAN
METHOD:PUBLISH
X-WR-CALNAME:F3 St. Louis
X-ORIGINAL-URL:https://f3stlouis.com
X-WR-CALDESC:Events for F3 St. Louis
REFRESH-INTERVAL;VALUE=DURATION:PT1H
X-Robots-Tag:noindex
X-PUBLISHED-TTL:PT1H
BEGIN:VTIMEZONE
TZID:UTC
BEGIN:STANDARD
TZOFFSETFROM:+0000
TZOFFSETTO:+0000
TZNAME:UTC
DTSTART:20220101T000000
END:STANDARD
END:VTIMEZONE
BEGIN:VEVENT
DTSTART;VALUE=DATE:20220909
DTEND;VALUE=DATE:20220912
DTSTAMP:20260423T105629
CREATED:20220206T210002Z
LAST-MODIFIED:20220206T210002Z
UID:1171-1662681600-1662940799@f3stlouis.com
SUMMARY:GrowRuck GTE 31 - Cherokee (Woodstock\, GA)
DESCRIPTION:
URL:https://f3stlouis.com/event/growruck-gte-31-cherokee-woodstock-ga/
END:VEVENT
BEGIN:VEVENT
DTSTART;TZID=UTC:20220911T050000
DTEND;TZID=UTC:20220911T070000
DTSTAMP:20260423T105629
CREATED:20220906T015433Z
LAST-MODIFIED:20220906T015433Z
UID:1319-1662872400-1662879600@f3stlouis.com
SUMMARY:5th Annual 9/11 Stair Climb
DESCRIPTION:Honey Pot will lead the PAX in a stair climb at the parking garage near the Huck in honor of 9/11. Start time is 5 a.m.\, but it’s fine to start later. Feel free to wear your ruck if you’re up for an even greater challenge.
URL:https://f3stlouis.com/event/5th-annual-9-11-stair-climb/
LOCATION:Huck Parking Garage\, 8182 Maryland Ave.\, Clayton\, 63105\, United States
END:VEVENT
END:VCALENDAR