BEGIN:VCALENDAR
VERSION:2.0
PRODID:-//F3 St. Louis - ECPv6.6.4.2//NONSGML v1.0//EN
CALSCALE:GREGORIAN
METHOD:PUBLISH
X-WR-CALNAME:F3 St. Louis
X-ORIGINAL-URL:https://f3stlouis.com
X-WR-CALDESC:Events for F3 St. Louis
REFRESH-INTERVAL;VALUE=DURATION:PT1H
X-Robots-Tag:noindex
X-PUBLISHED-TTL:PT1H
BEGIN:VTIMEZONE
TZID:UTC
BEGIN:STANDARD
TZOFFSETFROM:+0000
TZOFFSETTO:+0000
TZNAME:UTC
DTSTART:20220101T000000
END:STANDARD
END:VTIMEZONE
BEGIN:VEVENT
DTSTART;TZID=UTC:20220924T080000
DTEND;TZID=UTC:20220925T170000
DTSTAMP:20260421T154808
CREATED:20220511T135139Z
LAST-MODIFIED:20220511T135139Z
UID:1245-1664006400-1664125200@f3stlouis.com
SUMMARY:PEDAL THE CAUSE
DESCRIPTION:PEDAL THE CAUSE is coming to the Spirit of STL!!!  See the information below on how to register for this event.  If you register soon on through the team link\, the registration cost will be covered!  You will still need to fundraise\, but you will not have to put up the money to register.  This is an event sponsored by my Joint Venture partner (and @Gumbo\, @Chia Pet\, and @Waterworks employer). \n  \nPTC’s mission is to provide critical funding for cancer research at Siteman Cancer Center and Siteman Kids at St. Louis Children’s Hospital through this annual cycling challenge. Their hope is that research funded by Pedal the Cause will ultimately lead to a cure for cancer. 100% of the participant-raised donations for this event fund innovative cancer research. HOW TO PARTICIPATE:\nRIDE — Taste the Cause & Inspiration Program: September 23\, 2022\n              Ride\, Spin\, Inspired: September 24-25\, 2022\n\nThere are ride opportunities ranging from 10 to 100 miles on both Saturday & Sunday – perfect for cyclists of all levels! Don’t have a bike? Can’t be present? There are options to rent a bike\, spin on a stationary bike\, or be a virtual rider. To see more information on the event\, fundraising minimums\, and to register\, click on the link below which will take you to our McCarthy team landing page. Also see the attachments for some basic info. McCarthy family members are welcome to participate in this event as well\, so bring the whole family!ALL McCarthy participants will receive:\n\nCovered registration fee up to $100 (the entire fee for a single day ride if you register before 4/30)! Use the promo code 22McCarthy when you register.\nFree jerseys! In addition to the jersey you get from Pedal\, we are going to have McCarthy team jerseys for everyone that signs up to be a rider. The design is in progress now and I’m certain it will be awesome.\n250 Vitality points – getting out to ride or volunteer is great physical and mental exercise.\n\n\n\nVOLUNTEER – Volunteers are needed for a variety of tasks the weekend of the event. Family members are welcome to join (you must be 13 or older to volunteer). If you are interested in volunteering\, please go to our team page and sign up.
URL:https://f3stlouis.com/event/pedal-the-cause/
CATEGORIES:3rd-F Event
END:VEVENT
END:VCALENDAR