BEGIN:VCALENDAR
VERSION:2.0
PRODID:-//F3 St. Louis - ECPv6.6.4.2//NONSGML v1.0//EN
CALSCALE:GREGORIAN
METHOD:PUBLISH
X-WR-CALNAME:F3 St. Louis
X-ORIGINAL-URL:https://f3stlouis.com
X-WR-CALDESC:Events for F3 St. Louis
REFRESH-INTERVAL;VALUE=DURATION:PT1H
X-Robots-Tag:noindex
X-PUBLISHED-TTL:PT1H
BEGIN:VTIMEZONE
TZID:UTC
BEGIN:STANDARD
TZOFFSETFROM:+0000
TZOFFSETTO:+0000
TZNAME:UTC
DTSTART:20220101T000000
END:STANDARD
END:VTIMEZONE
BEGIN:VEVENT
DTSTART;TZID=UTC:20221015T053000
DTEND;TZID=UTC:20221015T083000
DTSTAMP:20260425T133401
CREATED:20220819T013334Z
LAST-MODIFIED:20220929T203143Z
UID:1311-1665811800-1665822600@f3stlouis.com
SUMMARY:Adopt a Highway Cleanup
DESCRIPTION:5:30 Beatdown \n6:30 Highway Cleanup \n7:30 Fellowship Breakfast
URL:https://f3stlouis.com/event/adopt-a-highway-cleanup/
LOCATION:St. Luke’s\, 232 S. Woods Mill Rd.\, Chesterfield\, MO\, 63017\, United States
END:VEVENT
END:VCALENDAR