BEGIN:VCALENDAR
VERSION:2.0
PRODID:-//F3 St. Louis - ECPv6.6.4.2//NONSGML v1.0//EN
CALSCALE:GREGORIAN
METHOD:PUBLISH
X-WR-CALNAME:F3 St. Louis
X-ORIGINAL-URL:https://f3stlouis.com
X-WR-CALDESC:Events for F3 St. Louis
REFRESH-INTERVAL;VALUE=DURATION:PT1H
X-Robots-Tag:noindex
X-PUBLISHED-TTL:PT1H
BEGIN:VTIMEZONE
TZID:UTC
BEGIN:STANDARD
TZOFFSETFROM:+0000
TZOFFSETTO:+0000
TZNAME:UTC
DTSTART:20220101T000000
END:STANDARD
END:VTIMEZONE
BEGIN:VEVENT
DTSTART;VALUE=DATE:20221104
DTEND;VALUE=DATE:20221107
DTSTAMP:20260421T172550
CREATED:20220206T210221Z
LAST-MODIFIED:20220206T210221Z
UID:1174-1667520000-1667779199@f3stlouis.com
SUMMARY:GrowRuck GTE 33 - Valley Forge\, PA
DESCRIPTION:
URL:https://f3stlouis.com/event/growruck-gte-33-valley-forge-pa/
END:VEVENT
END:VCALENDAR