BEGIN:VCALENDAR
VERSION:2.0
PRODID:-//F3 St. Louis - ECPv6.6.4.2//NONSGML v1.0//EN
CALSCALE:GREGORIAN
METHOD:PUBLISH
X-WR-CALNAME:F3 St. Louis
X-ORIGINAL-URL:https://f3stlouis.com
X-WR-CALDESC:Events for F3 St. Louis
REFRESH-INTERVAL;VALUE=DURATION:PT1H
X-Robots-Tag:noindex
X-PUBLISHED-TTL:PT1H
BEGIN:VTIMEZONE
TZID:UTC
BEGIN:STANDARD
TZOFFSETFROM:+0000
TZOFFSETTO:+0000
TZNAME:UTC
DTSTART:20220101T000000
END:STANDARD
END:VTIMEZONE
BEGIN:VEVENT
DTSTART;VALUE=DATE:20221111
DTEND;VALUE=DATE:20221112
DTSTAMP:20260423T111339
CREATED:20220906T004436Z
LAST-MODIFIED:20220906T004607Z
UID:1316-1668124800-1668211199@f3stlouis.com
SUMMARY:SAVE THE DATE: Chad 1000X
DESCRIPTION:
URL:https://f3stlouis.com/event/2022-chad-1000x/
END:VEVENT
BEGIN:VEVENT
DTSTART;TZID=UTC:20221210T093000
DTEND;TZID=UTC:20221210T130000
DTSTAMP:20260423T111339
CREATED:20220906T020206Z
LAST-MODIFIED:20220906T020434Z
UID:1321-1670664600-1670677200@f3stlouis.com
SUMMARY:Pere Marquette Trail Run
DESCRIPTION:This offroad 7.8 mile trail race is definitely a challenge. Hills all the way. But it’s great fellowship with fellow PAX\, and Fast Eddie’s awaits the group to refuel.
URL:https://f3stlouis.com/event/pere-marquette-trail-run-2022/
LOCATION:Pere Marquette\, Pere Marquette State Park\, Alton\, IL\, 62037\, United States
END:VEVENT
BEGIN:VEVENT
DTSTART;TZID=UTC:20230428T170000
DTEND;TZID=UTC:20230430T100000
DTSTAMP:20260423T111339
CREATED:20230107T164930Z
LAST-MODIFIED:20230107T164930Z
UID:1369-1682701200-1682848800@f3stlouis.com
SUMMARY:GrowRuck St. Charles
DESCRIPTION:Friday night rally (2nd F event) \nSaturday morning Kingbuilder (bootcamp beatdown) \nSaturday morning Grow School (leadership training / QSource) \nSaturday afternoon Impact Ruck \nSaturday evening to Sunday morning (overnight) – main event Ruck
URL:https://f3stlouis.com/event/growruck-st-charles/
LOCATION:St. Charles Region
END:VEVENT
END:VCALENDAR